BEGIN:VCALENDAR
VERSION:2.0
PRODID:-//St. Margaret&#039;s Episcopal Church - Washington D.C. - ECPv6.15.18//NONSGML v1.0//EN
CALSCALE:GREGORIAN
METHOD:PUBLISH
X-ORIGINAL-URL:https://stmargaretsdc.org
X-WR-CALDESC:Events for St. Margaret&#039;s Episcopal Church - Washington D.C.
REFRESH-INTERVAL;VALUE=DURATION:PT1H
X-Robots-Tag:noindex
X-PUBLISHED-TTL:PT1H
BEGIN:VTIMEZONE
TZID:America/Detroit
BEGIN:DAYLIGHT
TZOFFSETFROM:-0500
TZOFFSETTO:-0400
TZNAME:EDT
DTSTART:20250309T070000
END:DAYLIGHT
BEGIN:STANDARD
TZOFFSETFROM:-0400
TZOFFSETTO:-0500
TZNAME:EST
DTSTART:20251102T060000
END:STANDARD
BEGIN:DAYLIGHT
TZOFFSETFROM:-0500
TZOFFSETTO:-0400
TZNAME:EDT
DTSTART:20260308T070000
END:DAYLIGHT
BEGIN:STANDARD
TZOFFSETFROM:-0400
TZOFFSETTO:-0500
TZNAME:EST
DTSTART:20261101T060000
END:STANDARD
BEGIN:DAYLIGHT
TZOFFSETFROM:-0500
TZOFFSETTO:-0400
TZNAME:EDT
DTSTART:20270314T070000
END:DAYLIGHT
BEGIN:STANDARD
TZOFFSETFROM:-0400
TZOFFSETTO:-0500
TZNAME:EST
DTSTART:20271107T060000
END:STANDARD
BEGIN:DAYLIGHT
TZOFFSETFROM:-0500
TZOFFSETTO:-0400
TZNAME:EDT
DTSTART:20280312T070000
END:DAYLIGHT
BEGIN:STANDARD
TZOFFSETFROM:-0400
TZOFFSETTO:-0500
TZNAME:EST
DTSTART:20281105T060000
END:STANDARD
END:VTIMEZONE
BEGIN:VEVENT
DTSTART;TZID=America/Detroit:20261101T103000
DTEND;TZID=America/Detroit:20261101T233000
DTSTAMP:20260424T070746
CREATED:20220113T170006Z
LAST-MODIFIED:20220921T145626Z
UID:10005964-1793529000-1793575800@stmargaretsdc.org
SUMMARY:Holy Eucharist
DESCRIPTION:Worship with us during our weekly service of Holy Eucharist\, online or in person. \n  \nZoom Link \nZoom Meeting ID: 935 9524 6192 \nPasscode: 596538 \n  \n 
URL:https://stmargaretsdc.org/event/service-of-holy-eucharist/2026-11-01/
CATEGORIES:Family Friendly,Worship
ATTACH;FMTTYPE=image/jpeg:https://stmargaretsdc.org/wp-content/uploads/2021/09/Gallery_5.jpg
END:VEVENT
BEGIN:VEVENT
DTSTART;TZID=America/Detroit:20261103T073000
DTEND;TZID=America/Detroit:20261103T083000
DTSTAMP:20260424T070746
CREATED:20231214T211857Z
LAST-MODIFIED:20251029T144356Z
UID:10006562-1793691000-1793694600@stmargaretsdc.org
SUMMARY:Charlie's Place Bible Study Group
DESCRIPTION:Charlie’s Place offers a warm and calm space where people experiencing homelessness get basic needs met while also finding the resources they need to empower themselves and better their lives. Join members of the Charlie’s Place weekly prayer and Bible study group\, where people of diverse backgrounds and lived experiences are brought together by the power of prayer and the study of God’s Word. For details on how to get involved\, email Ann Yonemura.
URL:https://stmargaretsdc.org/event/charlies-place-morning-prayer-bible-study-group-2022-08-03-2/2026-11-03/
CATEGORIES:Charlie's Place,Support Groups,Worship
ATTACH;FMTTYPE=image/png:https://stmargaretsdc.org/wp-content/uploads/2021/09/Bible-Study.png
END:VEVENT
BEGIN:VEVENT
DTSTART;TZID=America/Detroit:20261108T103000
DTEND;TZID=America/Detroit:20261108T233000
DTSTAMP:20260424T070746
CREATED:20220113T170006Z
LAST-MODIFIED:20220921T145626Z
UID:10005965-1794133800-1794180600@stmargaretsdc.org
SUMMARY:Holy Eucharist
DESCRIPTION:Worship with us during our weekly service of Holy Eucharist\, online or in person. \n  \nZoom Link \nZoom Meeting ID: 935 9524 6192 \nPasscode: 596538 \n  \n 
URL:https://stmargaretsdc.org/event/service-of-holy-eucharist/2026-11-08/
CATEGORIES:Family Friendly,Worship
ATTACH;FMTTYPE=image/jpeg:https://stmargaretsdc.org/wp-content/uploads/2021/09/Gallery_5.jpg
END:VEVENT
BEGIN:VEVENT
DTSTART;TZID=America/Detroit:20261110T073000
DTEND;TZID=America/Detroit:20261110T083000
DTSTAMP:20260424T070746
CREATED:20231214T211857Z
LAST-MODIFIED:20251029T144356Z
UID:10006563-1794295800-1794299400@stmargaretsdc.org
SUMMARY:Charlie's Place Bible Study Group
DESCRIPTION:Charlie’s Place offers a warm and calm space where people experiencing homelessness get basic needs met while also finding the resources they need to empower themselves and better their lives. Join members of the Charlie’s Place weekly prayer and Bible study group\, where people of diverse backgrounds and lived experiences are brought together by the power of prayer and the study of God’s Word. For details on how to get involved\, email Ann Yonemura.
URL:https://stmargaretsdc.org/event/charlies-place-morning-prayer-bible-study-group-2022-08-03-2/2026-11-10/
CATEGORIES:Charlie's Place,Support Groups,Worship
ATTACH;FMTTYPE=image/png:https://stmargaretsdc.org/wp-content/uploads/2021/09/Bible-Study.png
END:VEVENT
BEGIN:VEVENT
DTSTART;TZID=America/Detroit:20261115T103000
DTEND;TZID=America/Detroit:20261115T233000
DTSTAMP:20260424T070746
CREATED:20220113T170006Z
LAST-MODIFIED:20220921T145626Z
UID:10005966-1794738600-1794785400@stmargaretsdc.org
SUMMARY:Holy Eucharist
DESCRIPTION:Worship with us during our weekly service of Holy Eucharist\, online or in person. \n  \nZoom Link \nZoom Meeting ID: 935 9524 6192 \nPasscode: 596538 \n  \n 
URL:https://stmargaretsdc.org/event/service-of-holy-eucharist/2026-11-15/
CATEGORIES:Family Friendly,Worship
ATTACH;FMTTYPE=image/jpeg:https://stmargaretsdc.org/wp-content/uploads/2021/09/Gallery_5.jpg
END:VEVENT
BEGIN:VEVENT
DTSTART;TZID=America/Detroit:20261117T073000
DTEND;TZID=America/Detroit:20261117T083000
DTSTAMP:20260424T070746
CREATED:20231214T211857Z
LAST-MODIFIED:20251029T144356Z
UID:10006564-1794900600-1794904200@stmargaretsdc.org
SUMMARY:Charlie's Place Bible Study Group
DESCRIPTION:Charlie’s Place offers a warm and calm space where people experiencing homelessness get basic needs met while also finding the resources they need to empower themselves and better their lives. Join members of the Charlie’s Place weekly prayer and Bible study group\, where people of diverse backgrounds and lived experiences are brought together by the power of prayer and the study of God’s Word. For details on how to get involved\, email Ann Yonemura.
URL:https://stmargaretsdc.org/event/charlies-place-morning-prayer-bible-study-group-2022-08-03-2/2026-11-17/
CATEGORIES:Charlie's Place,Support Groups,Worship
ATTACH;FMTTYPE=image/png:https://stmargaretsdc.org/wp-content/uploads/2021/09/Bible-Study.png
END:VEVENT
BEGIN:VEVENT
DTSTART;TZID=America/Detroit:20261122T103000
DTEND;TZID=America/Detroit:20261122T233000
DTSTAMP:20260424T070746
CREATED:20220113T170006Z
LAST-MODIFIED:20220921T145626Z
UID:10005967-1795343400-1795390200@stmargaretsdc.org
SUMMARY:Holy Eucharist
DESCRIPTION:Worship with us during our weekly service of Holy Eucharist\, online or in person. \n  \nZoom Link \nZoom Meeting ID: 935 9524 6192 \nPasscode: 596538 \n  \n 
URL:https://stmargaretsdc.org/event/service-of-holy-eucharist/2026-11-22/
CATEGORIES:Family Friendly,Worship
ATTACH;FMTTYPE=image/jpeg:https://stmargaretsdc.org/wp-content/uploads/2021/09/Gallery_5.jpg
END:VEVENT
BEGIN:VEVENT
DTSTART;TZID=America/Detroit:20261124T073000
DTEND;TZID=America/Detroit:20261124T083000
DTSTAMP:20260424T070746
CREATED:20231214T211857Z
LAST-MODIFIED:20251029T144356Z
UID:10006565-1795505400-1795509000@stmargaretsdc.org
SUMMARY:Charlie's Place Bible Study Group
DESCRIPTION:Charlie’s Place offers a warm and calm space where people experiencing homelessness get basic needs met while also finding the resources they need to empower themselves and better their lives. Join members of the Charlie’s Place weekly prayer and Bible study group\, where people of diverse backgrounds and lived experiences are brought together by the power of prayer and the study of God’s Word. For details on how to get involved\, email Ann Yonemura.
URL:https://stmargaretsdc.org/event/charlies-place-morning-prayer-bible-study-group-2022-08-03-2/2026-11-24/
CATEGORIES:Charlie's Place,Support Groups,Worship
ATTACH;FMTTYPE=image/png:https://stmargaretsdc.org/wp-content/uploads/2021/09/Bible-Study.png
END:VEVENT
BEGIN:VEVENT
DTSTART;TZID=America/Detroit:20261129T103000
DTEND;TZID=America/Detroit:20261129T233000
DTSTAMP:20260424T070746
CREATED:20220113T170006Z
LAST-MODIFIED:20220921T145626Z
UID:10005968-1795948200-1795995000@stmargaretsdc.org
SUMMARY:Holy Eucharist
DESCRIPTION:Worship with us during our weekly service of Holy Eucharist\, online or in person. \n  \nZoom Link \nZoom Meeting ID: 935 9524 6192 \nPasscode: 596538 \n  \n 
URL:https://stmargaretsdc.org/event/service-of-holy-eucharist/2026-11-29/
CATEGORIES:Family Friendly,Worship
ATTACH;FMTTYPE=image/jpeg:https://stmargaretsdc.org/wp-content/uploads/2021/09/Gallery_5.jpg
END:VEVENT
BEGIN:VEVENT
DTSTART;TZID=America/Detroit:20261201T073000
DTEND;TZID=America/Detroit:20261201T083000
DTSTAMP:20260424T070746
CREATED:20231214T211857Z
LAST-MODIFIED:20251029T144356Z
UID:10006566-1796110200-1796113800@stmargaretsdc.org
SUMMARY:Charlie's Place Bible Study Group
DESCRIPTION:Charlie’s Place offers a warm and calm space where people experiencing homelessness get basic needs met while also finding the resources they need to empower themselves and better their lives. Join members of the Charlie’s Place weekly prayer and Bible study group\, where people of diverse backgrounds and lived experiences are brought together by the power of prayer and the study of God’s Word. For details on how to get involved\, email Ann Yonemura.
URL:https://stmargaretsdc.org/event/charlies-place-morning-prayer-bible-study-group-2022-08-03-2/2026-12-01/
CATEGORIES:Charlie's Place,Support Groups,Worship
ATTACH;FMTTYPE=image/png:https://stmargaretsdc.org/wp-content/uploads/2021/09/Bible-Study.png
END:VEVENT
BEGIN:VEVENT
DTSTART;TZID=America/Detroit:20261206T103000
DTEND;TZID=America/Detroit:20261206T233000
DTSTAMP:20260424T070746
CREATED:20220113T170006Z
LAST-MODIFIED:20220921T145626Z
UID:10005969-1796553000-1796599800@stmargaretsdc.org
SUMMARY:Holy Eucharist
DESCRIPTION:Worship with us during our weekly service of Holy Eucharist\, online or in person. \n  \nZoom Link \nZoom Meeting ID: 935 9524 6192 \nPasscode: 596538 \n  \n 
URL:https://stmargaretsdc.org/event/service-of-holy-eucharist/2026-12-06/
CATEGORIES:Family Friendly,Worship
ATTACH;FMTTYPE=image/jpeg:https://stmargaretsdc.org/wp-content/uploads/2021/09/Gallery_5.jpg
END:VEVENT
BEGIN:VEVENT
DTSTART;TZID=America/Detroit:20261208T073000
DTEND;TZID=America/Detroit:20261208T083000
DTSTAMP:20260424T070746
CREATED:20231214T211857Z
LAST-MODIFIED:20251029T144356Z
UID:10006567-1796715000-1796718600@stmargaretsdc.org
SUMMARY:Charlie's Place Bible Study Group
DESCRIPTION:Charlie’s Place offers a warm and calm space where people experiencing homelessness get basic needs met while also finding the resources they need to empower themselves and better their lives. Join members of the Charlie’s Place weekly prayer and Bible study group\, where people of diverse backgrounds and lived experiences are brought together by the power of prayer and the study of God’s Word. For details on how to get involved\, email Ann Yonemura.
URL:https://stmargaretsdc.org/event/charlies-place-morning-prayer-bible-study-group-2022-08-03-2/2026-12-08/
CATEGORIES:Charlie's Place,Support Groups,Worship
ATTACH;FMTTYPE=image/png:https://stmargaretsdc.org/wp-content/uploads/2021/09/Bible-Study.png
END:VEVENT
BEGIN:VEVENT
DTSTART;TZID=America/Detroit:20261213T103000
DTEND;TZID=America/Detroit:20261213T233000
DTSTAMP:20260424T070746
CREATED:20220113T170006Z
LAST-MODIFIED:20220921T145626Z
UID:10005970-1797157800-1797204600@stmargaretsdc.org
SUMMARY:Holy Eucharist
DESCRIPTION:Worship with us during our weekly service of Holy Eucharist\, online or in person. \n  \nZoom Link \nZoom Meeting ID: 935 9524 6192 \nPasscode: 596538 \n  \n 
URL:https://stmargaretsdc.org/event/service-of-holy-eucharist/2026-12-13/
CATEGORIES:Family Friendly,Worship
ATTACH;FMTTYPE=image/jpeg:https://stmargaretsdc.org/wp-content/uploads/2021/09/Gallery_5.jpg
END:VEVENT
BEGIN:VEVENT
DTSTART;TZID=America/Detroit:20261215T073000
DTEND;TZID=America/Detroit:20261215T083000
DTSTAMP:20260424T070746
CREATED:20231214T211857Z
LAST-MODIFIED:20251029T144356Z
UID:10006568-1797319800-1797323400@stmargaretsdc.org
SUMMARY:Charlie's Place Bible Study Group
DESCRIPTION:Charlie’s Place offers a warm and calm space where people experiencing homelessness get basic needs met while also finding the resources they need to empower themselves and better their lives. Join members of the Charlie’s Place weekly prayer and Bible study group\, where people of diverse backgrounds and lived experiences are brought together by the power of prayer and the study of God’s Word. For details on how to get involved\, email Ann Yonemura.
URL:https://stmargaretsdc.org/event/charlies-place-morning-prayer-bible-study-group-2022-08-03-2/2026-12-15/
CATEGORIES:Charlie's Place,Support Groups,Worship
ATTACH;FMTTYPE=image/png:https://stmargaretsdc.org/wp-content/uploads/2021/09/Bible-Study.png
END:VEVENT
BEGIN:VEVENT
DTSTART;TZID=America/Detroit:20261220T103000
DTEND;TZID=America/Detroit:20261220T233000
DTSTAMP:20260424T070746
CREATED:20220113T170006Z
LAST-MODIFIED:20220921T145626Z
UID:10005971-1797762600-1797809400@stmargaretsdc.org
SUMMARY:Holy Eucharist
DESCRIPTION:Worship with us during our weekly service of Holy Eucharist\, online or in person. \n  \nZoom Link \nZoom Meeting ID: 935 9524 6192 \nPasscode: 596538 \n  \n 
URL:https://stmargaretsdc.org/event/service-of-holy-eucharist/2026-12-20/
CATEGORIES:Family Friendly,Worship
ATTACH;FMTTYPE=image/jpeg:https://stmargaretsdc.org/wp-content/uploads/2021/09/Gallery_5.jpg
END:VEVENT
BEGIN:VEVENT
DTSTART;TZID=America/Detroit:20261222T073000
DTEND;TZID=America/Detroit:20261222T083000
DTSTAMP:20260424T070746
CREATED:20231214T211857Z
LAST-MODIFIED:20251029T144356Z
UID:10006569-1797924600-1797928200@stmargaretsdc.org
SUMMARY:Charlie's Place Bible Study Group
DESCRIPTION:Charlie’s Place offers a warm and calm space where people experiencing homelessness get basic needs met while also finding the resources they need to empower themselves and better their lives. Join members of the Charlie’s Place weekly prayer and Bible study group\, where people of diverse backgrounds and lived experiences are brought together by the power of prayer and the study of God’s Word. For details on how to get involved\, email Ann Yonemura.
URL:https://stmargaretsdc.org/event/charlies-place-morning-prayer-bible-study-group-2022-08-03-2/2026-12-22/
CATEGORIES:Charlie's Place,Support Groups,Worship
ATTACH;FMTTYPE=image/png:https://stmargaretsdc.org/wp-content/uploads/2021/09/Bible-Study.png
END:VEVENT
BEGIN:VEVENT
DTSTART;TZID=America/Detroit:20261227T103000
DTEND;TZID=America/Detroit:20261227T233000
DTSTAMP:20260424T070746
CREATED:20220113T170006Z
LAST-MODIFIED:20220921T145626Z
UID:10005972-1798367400-1798414200@stmargaretsdc.org
SUMMARY:Holy Eucharist
DESCRIPTION:Worship with us during our weekly service of Holy Eucharist\, online or in person. \n  \nZoom Link \nZoom Meeting ID: 935 9524 6192 \nPasscode: 596538 \n  \n 
URL:https://stmargaretsdc.org/event/service-of-holy-eucharist/2026-12-27/
CATEGORIES:Family Friendly,Worship
ATTACH;FMTTYPE=image/jpeg:https://stmargaretsdc.org/wp-content/uploads/2021/09/Gallery_5.jpg
END:VEVENT
BEGIN:VEVENT
DTSTART;TZID=America/Detroit:20261229T073000
DTEND;TZID=America/Detroit:20261229T083000
DTSTAMP:20260424T070746
CREATED:20231214T211857Z
LAST-MODIFIED:20251029T144356Z
UID:10006570-1798529400-1798533000@stmargaretsdc.org
SUMMARY:Charlie's Place Bible Study Group
DESCRIPTION:Charlie’s Place offers a warm and calm space where people experiencing homelessness get basic needs met while also finding the resources they need to empower themselves and better their lives. Join members of the Charlie’s Place weekly prayer and Bible study group\, where people of diverse backgrounds and lived experiences are brought together by the power of prayer and the study of God’s Word. For details on how to get involved\, email Ann Yonemura.
URL:https://stmargaretsdc.org/event/charlies-place-morning-prayer-bible-study-group-2022-08-03-2/2026-12-29/
CATEGORIES:Charlie's Place,Support Groups,Worship
ATTACH;FMTTYPE=image/png:https://stmargaretsdc.org/wp-content/uploads/2021/09/Bible-Study.png
END:VEVENT
BEGIN:VEVENT
DTSTART;TZID=America/Detroit:20270103T103000
DTEND;TZID=America/Detroit:20270103T233000
DTSTAMP:20260424T070746
CREATED:20220113T170006Z
LAST-MODIFIED:20220921T145626Z
UID:10005973-1798972200-1799019000@stmargaretsdc.org
SUMMARY:Holy Eucharist
DESCRIPTION:Worship with us during our weekly service of Holy Eucharist\, online or in person. \n  \nZoom Link \nZoom Meeting ID: 935 9524 6192 \nPasscode: 596538 \n  \n 
URL:https://stmargaretsdc.org/event/service-of-holy-eucharist/2027-01-03/
CATEGORIES:Family Friendly,Worship
ATTACH;FMTTYPE=image/jpeg:https://stmargaretsdc.org/wp-content/uploads/2021/09/Gallery_5.jpg
END:VEVENT
BEGIN:VEVENT
DTSTART;TZID=America/Detroit:20270105T073000
DTEND;TZID=America/Detroit:20270105T083000
DTSTAMP:20260424T070746
CREATED:20231214T211857Z
LAST-MODIFIED:20251029T144356Z
UID:10006571-1799134200-1799137800@stmargaretsdc.org
SUMMARY:Charlie's Place Bible Study Group
DESCRIPTION:Charlie’s Place offers a warm and calm space where people experiencing homelessness get basic needs met while also finding the resources they need to empower themselves and better their lives. Join members of the Charlie’s Place weekly prayer and Bible study group\, where people of diverse backgrounds and lived experiences are brought together by the power of prayer and the study of God’s Word. For details on how to get involved\, email Ann Yonemura.
URL:https://stmargaretsdc.org/event/charlies-place-morning-prayer-bible-study-group-2022-08-03-2/2027-01-05/
CATEGORIES:Charlie's Place,Support Groups,Worship
ATTACH;FMTTYPE=image/png:https://stmargaretsdc.org/wp-content/uploads/2021/09/Bible-Study.png
END:VEVENT
BEGIN:VEVENT
DTSTART;TZID=America/Detroit:20270110T103000
DTEND;TZID=America/Detroit:20270110T233000
DTSTAMP:20260424T070746
CREATED:20220113T170006Z
LAST-MODIFIED:20220921T145626Z
UID:10005974-1799577000-1799623800@stmargaretsdc.org
SUMMARY:Holy Eucharist
DESCRIPTION:Worship with us during our weekly service of Holy Eucharist\, online or in person. \n  \nZoom Link \nZoom Meeting ID: 935 9524 6192 \nPasscode: 596538 \n  \n 
URL:https://stmargaretsdc.org/event/service-of-holy-eucharist/2027-01-10/
CATEGORIES:Family Friendly,Worship
ATTACH;FMTTYPE=image/jpeg:https://stmargaretsdc.org/wp-content/uploads/2021/09/Gallery_5.jpg
END:VEVENT
BEGIN:VEVENT
DTSTART;TZID=America/Detroit:20270112T073000
DTEND;TZID=America/Detroit:20270112T083000
DTSTAMP:20260424T070746
CREATED:20231214T211857Z
LAST-MODIFIED:20251029T144356Z
UID:10006572-1799739000-1799742600@stmargaretsdc.org
SUMMARY:Charlie's Place Bible Study Group
DESCRIPTION:Charlie’s Place offers a warm and calm space where people experiencing homelessness get basic needs met while also finding the resources they need to empower themselves and better their lives. Join members of the Charlie’s Place weekly prayer and Bible study group\, where people of diverse backgrounds and lived experiences are brought together by the power of prayer and the study of God’s Word. For details on how to get involved\, email Ann Yonemura.
URL:https://stmargaretsdc.org/event/charlies-place-morning-prayer-bible-study-group-2022-08-03-2/2027-01-12/
CATEGORIES:Charlie's Place,Support Groups,Worship
ATTACH;FMTTYPE=image/png:https://stmargaretsdc.org/wp-content/uploads/2021/09/Bible-Study.png
END:VEVENT
BEGIN:VEVENT
DTSTART;TZID=America/Detroit:20270117T103000
DTEND;TZID=America/Detroit:20270117T233000
DTSTAMP:20260424T070746
CREATED:20220113T170006Z
LAST-MODIFIED:20220921T145626Z
UID:10005975-1800181800-1800228600@stmargaretsdc.org
SUMMARY:Holy Eucharist
DESCRIPTION:Worship with us during our weekly service of Holy Eucharist\, online or in person. \n  \nZoom Link \nZoom Meeting ID: 935 9524 6192 \nPasscode: 596538 \n  \n 
URL:https://stmargaretsdc.org/event/service-of-holy-eucharist/2027-01-17/
CATEGORIES:Family Friendly,Worship
ATTACH;FMTTYPE=image/jpeg:https://stmargaretsdc.org/wp-content/uploads/2021/09/Gallery_5.jpg
END:VEVENT
BEGIN:VEVENT
DTSTART;TZID=America/Detroit:20270119T073000
DTEND;TZID=America/Detroit:20270119T083000
DTSTAMP:20260424T070746
CREATED:20231214T211857Z
LAST-MODIFIED:20251029T144356Z
UID:10006573-1800343800-1800347400@stmargaretsdc.org
SUMMARY:Charlie's Place Bible Study Group
DESCRIPTION:Charlie’s Place offers a warm and calm space where people experiencing homelessness get basic needs met while also finding the resources they need to empower themselves and better their lives. Join members of the Charlie’s Place weekly prayer and Bible study group\, where people of diverse backgrounds and lived experiences are brought together by the power of prayer and the study of God’s Word. For details on how to get involved\, email Ann Yonemura.
URL:https://stmargaretsdc.org/event/charlies-place-morning-prayer-bible-study-group-2022-08-03-2/2027-01-19/
CATEGORIES:Charlie's Place,Support Groups,Worship
ATTACH;FMTTYPE=image/png:https://stmargaretsdc.org/wp-content/uploads/2021/09/Bible-Study.png
END:VEVENT
BEGIN:VEVENT
DTSTART;TZID=America/Detroit:20270124T103000
DTEND;TZID=America/Detroit:20270124T233000
DTSTAMP:20260424T070746
CREATED:20220113T170006Z
LAST-MODIFIED:20220921T145626Z
UID:10005976-1800786600-1800833400@stmargaretsdc.org
SUMMARY:Holy Eucharist
DESCRIPTION:Worship with us during our weekly service of Holy Eucharist\, online or in person. \n  \nZoom Link \nZoom Meeting ID: 935 9524 6192 \nPasscode: 596538 \n  \n 
URL:https://stmargaretsdc.org/event/service-of-holy-eucharist/2027-01-24/
CATEGORIES:Family Friendly,Worship
ATTACH;FMTTYPE=image/jpeg:https://stmargaretsdc.org/wp-content/uploads/2021/09/Gallery_5.jpg
END:VEVENT
BEGIN:VEVENT
DTSTART;TZID=America/Detroit:20270126T073000
DTEND;TZID=America/Detroit:20270126T083000
DTSTAMP:20260424T070746
CREATED:20231214T211857Z
LAST-MODIFIED:20251029T144356Z
UID:10006574-1800948600-1800952200@stmargaretsdc.org
SUMMARY:Charlie's Place Bible Study Group
DESCRIPTION:Charlie’s Place offers a warm and calm space where people experiencing homelessness get basic needs met while also finding the resources they need to empower themselves and better their lives. Join members of the Charlie’s Place weekly prayer and Bible study group\, where people of diverse backgrounds and lived experiences are brought together by the power of prayer and the study of God’s Word. For details on how to get involved\, email Ann Yonemura.
URL:https://stmargaretsdc.org/event/charlies-place-morning-prayer-bible-study-group-2022-08-03-2/2027-01-26/
CATEGORIES:Charlie's Place,Support Groups,Worship
ATTACH;FMTTYPE=image/png:https://stmargaretsdc.org/wp-content/uploads/2021/09/Bible-Study.png
END:VEVENT
BEGIN:VEVENT
DTSTART;TZID=America/Detroit:20270131T103000
DTEND;TZID=America/Detroit:20270131T233000
DTSTAMP:20260424T070746
CREATED:20220113T170006Z
LAST-MODIFIED:20220921T145626Z
UID:10005977-1801391400-1801438200@stmargaretsdc.org
SUMMARY:Holy Eucharist
DESCRIPTION:Worship with us during our weekly service of Holy Eucharist\, online or in person. \n  \nZoom Link \nZoom Meeting ID: 935 9524 6192 \nPasscode: 596538 \n  \n 
URL:https://stmargaretsdc.org/event/service-of-holy-eucharist/2027-01-31/
CATEGORIES:Family Friendly,Worship
ATTACH;FMTTYPE=image/jpeg:https://stmargaretsdc.org/wp-content/uploads/2021/09/Gallery_5.jpg
END:VEVENT
BEGIN:VEVENT
DTSTART;TZID=America/Detroit:20270202T073000
DTEND;TZID=America/Detroit:20270202T083000
DTSTAMP:20260424T070746
CREATED:20231214T211857Z
LAST-MODIFIED:20251029T144356Z
UID:10006575-1801553400-1801557000@stmargaretsdc.org
SUMMARY:Charlie's Place Bible Study Group
DESCRIPTION:Charlie’s Place offers a warm and calm space where people experiencing homelessness get basic needs met while also finding the resources they need to empower themselves and better their lives. Join members of the Charlie’s Place weekly prayer and Bible study group\, where people of diverse backgrounds and lived experiences are brought together by the power of prayer and the study of God’s Word. For details on how to get involved\, email Ann Yonemura.
URL:https://stmargaretsdc.org/event/charlies-place-morning-prayer-bible-study-group-2022-08-03-2/2027-02-02/
CATEGORIES:Charlie's Place,Support Groups,Worship
ATTACH;FMTTYPE=image/png:https://stmargaretsdc.org/wp-content/uploads/2021/09/Bible-Study.png
END:VEVENT
BEGIN:VEVENT
DTSTART;TZID=America/Detroit:20270207T103000
DTEND;TZID=America/Detroit:20270207T233000
DTSTAMP:20260424T070746
CREATED:20220113T170006Z
LAST-MODIFIED:20220921T145626Z
UID:10005978-1801996200-1802043000@stmargaretsdc.org
SUMMARY:Holy Eucharist
DESCRIPTION:Worship with us during our weekly service of Holy Eucharist\, online or in person. \n  \nZoom Link \nZoom Meeting ID: 935 9524 6192 \nPasscode: 596538 \n  \n 
URL:https://stmargaretsdc.org/event/service-of-holy-eucharist/2027-02-07/
CATEGORIES:Family Friendly,Worship
ATTACH;FMTTYPE=image/jpeg:https://stmargaretsdc.org/wp-content/uploads/2021/09/Gallery_5.jpg
END:VEVENT
BEGIN:VEVENT
DTSTART;TZID=America/Detroit:20270209T073000
DTEND;TZID=America/Detroit:20270209T083000
DTSTAMP:20260424T070746
CREATED:20231214T211857Z
LAST-MODIFIED:20251029T144356Z
UID:10006576-1802158200-1802161800@stmargaretsdc.org
SUMMARY:Charlie's Place Bible Study Group
DESCRIPTION:Charlie’s Place offers a warm and calm space where people experiencing homelessness get basic needs met while also finding the resources they need to empower themselves and better their lives. Join members of the Charlie’s Place weekly prayer and Bible study group\, where people of diverse backgrounds and lived experiences are brought together by the power of prayer and the study of God’s Word. For details on how to get involved\, email Ann Yonemura.
URL:https://stmargaretsdc.org/event/charlies-place-morning-prayer-bible-study-group-2022-08-03-2/2027-02-09/
CATEGORIES:Charlie's Place,Support Groups,Worship
ATTACH;FMTTYPE=image/png:https://stmargaretsdc.org/wp-content/uploads/2021/09/Bible-Study.png
END:VEVENT
END:VCALENDAR