BEGIN:VCALENDAR
VERSION:2.0
PRODID:-//St. Margaret&#039;s Episcopal Church - Washington D.C. - ECPv6.15.18//NONSGML v1.0//EN
CALSCALE:GREGORIAN
METHOD:PUBLISH
X-WR-CALNAME:St. Margaret&#039;s Episcopal Church - Washington D.C.
X-ORIGINAL-URL:https://stmargaretsdc.org
X-WR-CALDESC:Events for St. Margaret&#039;s Episcopal Church - Washington D.C.
REFRESH-INTERVAL;VALUE=DURATION:PT1H
X-Robots-Tag:noindex
X-PUBLISHED-TTL:PT1H
BEGIN:VTIMEZONE
TZID:America/Detroit
BEGIN:DAYLIGHT
TZOFFSETFROM:-0500
TZOFFSETTO:-0400
TZNAME:EDT
DTSTART:20250309T070000
END:DAYLIGHT
BEGIN:STANDARD
TZOFFSETFROM:-0400
TZOFFSETTO:-0500
TZNAME:EST
DTSTART:20251102T060000
END:STANDARD
BEGIN:DAYLIGHT
TZOFFSETFROM:-0500
TZOFFSETTO:-0400
TZNAME:EDT
DTSTART:20260308T070000
END:DAYLIGHT
BEGIN:STANDARD
TZOFFSETFROM:-0400
TZOFFSETTO:-0500
TZNAME:EST
DTSTART:20261101T060000
END:STANDARD
BEGIN:DAYLIGHT
TZOFFSETFROM:-0500
TZOFFSETTO:-0400
TZNAME:EDT
DTSTART:20270314T070000
END:DAYLIGHT
BEGIN:STANDARD
TZOFFSETFROM:-0400
TZOFFSETTO:-0500
TZNAME:EST
DTSTART:20271107T060000
END:STANDARD
END:VTIMEZONE
BEGIN:VEVENT
DTSTART;TZID=America/Detroit:20260728T073000
DTEND;TZID=America/Detroit:20260728T083000
DTSTAMP:20260422T171458
CREATED:20231214T211857Z
LAST-MODIFIED:20251029T144356Z
UID:10006548-1785223800-1785227400@stmargaretsdc.org
SUMMARY:Charlie's Place Bible Study Group
DESCRIPTION:Charlie’s Place offers a warm and calm space where people experiencing homelessness get basic needs met while also finding the resources they need to empower themselves and better their lives. Join members of the Charlie’s Place weekly prayer and Bible study group\, where people of diverse backgrounds and lived experiences are brought together by the power of prayer and the study of God’s Word. For details on how to get involved\, email Ann Yonemura.
URL:https://stmargaretsdc.org/event/charlies-place-morning-prayer-bible-study-group-2022-08-03-2/2026-07-28/
CATEGORIES:Charlie's Place,Support Groups,Worship
ATTACH;FMTTYPE=image/png:https://stmargaretsdc.org/wp-content/uploads/2021/09/Bible-Study.png
END:VEVENT
BEGIN:VEVENT
DTSTART;TZID=America/Detroit:20260802T103000
DTEND;TZID=America/Detroit:20260802T233000
DTSTAMP:20260422T171458
CREATED:20220113T170006Z
LAST-MODIFIED:20220921T145626Z
UID:10005951-1785666600-1785713400@stmargaretsdc.org
SUMMARY:Holy Eucharist
DESCRIPTION:Worship with us during our weekly service of Holy Eucharist\, online or in person. \n  \nZoom Link \nZoom Meeting ID: 935 9524 6192 \nPasscode: 596538 \n  \n 
URL:https://stmargaretsdc.org/event/service-of-holy-eucharist/2026-08-02/
CATEGORIES:Family Friendly,Worship
ATTACH;FMTTYPE=image/jpeg:https://stmargaretsdc.org/wp-content/uploads/2021/09/Gallery_5.jpg
END:VEVENT
BEGIN:VEVENT
DTSTART;TZID=America/Detroit:20260804T073000
DTEND;TZID=America/Detroit:20260804T083000
DTSTAMP:20260422T171458
CREATED:20231214T211857Z
LAST-MODIFIED:20251029T144356Z
UID:10006549-1785828600-1785832200@stmargaretsdc.org
SUMMARY:Charlie's Place Bible Study Group
DESCRIPTION:Charlie’s Place offers a warm and calm space where people experiencing homelessness get basic needs met while also finding the resources they need to empower themselves and better their lives. Join members of the Charlie’s Place weekly prayer and Bible study group\, where people of diverse backgrounds and lived experiences are brought together by the power of prayer and the study of God’s Word. For details on how to get involved\, email Ann Yonemura.
URL:https://stmargaretsdc.org/event/charlies-place-morning-prayer-bible-study-group-2022-08-03-2/2026-08-04/
CATEGORIES:Charlie's Place,Support Groups,Worship
ATTACH;FMTTYPE=image/png:https://stmargaretsdc.org/wp-content/uploads/2021/09/Bible-Study.png
END:VEVENT
BEGIN:VEVENT
DTSTART;TZID=America/Detroit:20260809T103000
DTEND;TZID=America/Detroit:20260809T233000
DTSTAMP:20260422T171458
CREATED:20220113T170006Z
LAST-MODIFIED:20220921T145626Z
UID:10005952-1786271400-1786318200@stmargaretsdc.org
SUMMARY:Holy Eucharist
DESCRIPTION:Worship with us during our weekly service of Holy Eucharist\, online or in person. \n  \nZoom Link \nZoom Meeting ID: 935 9524 6192 \nPasscode: 596538 \n  \n 
URL:https://stmargaretsdc.org/event/service-of-holy-eucharist/2026-08-09/
CATEGORIES:Family Friendly,Worship
ATTACH;FMTTYPE=image/jpeg:https://stmargaretsdc.org/wp-content/uploads/2021/09/Gallery_5.jpg
END:VEVENT
BEGIN:VEVENT
DTSTART;TZID=America/Detroit:20260811T073000
DTEND;TZID=America/Detroit:20260811T083000
DTSTAMP:20260422T171458
CREATED:20231214T211857Z
LAST-MODIFIED:20251029T144356Z
UID:10006550-1786433400-1786437000@stmargaretsdc.org
SUMMARY:Charlie's Place Bible Study Group
DESCRIPTION:Charlie’s Place offers a warm and calm space where people experiencing homelessness get basic needs met while also finding the resources they need to empower themselves and better their lives. Join members of the Charlie’s Place weekly prayer and Bible study group\, where people of diverse backgrounds and lived experiences are brought together by the power of prayer and the study of God’s Word. For details on how to get involved\, email Ann Yonemura.
URL:https://stmargaretsdc.org/event/charlies-place-morning-prayer-bible-study-group-2022-08-03-2/2026-08-11/
CATEGORIES:Charlie's Place,Support Groups,Worship
ATTACH;FMTTYPE=image/png:https://stmargaretsdc.org/wp-content/uploads/2021/09/Bible-Study.png
END:VEVENT
BEGIN:VEVENT
DTSTART;TZID=America/Detroit:20260816T103000
DTEND;TZID=America/Detroit:20260816T233000
DTSTAMP:20260422T171458
CREATED:20220113T170006Z
LAST-MODIFIED:20220921T145626Z
UID:10005953-1786876200-1786923000@stmargaretsdc.org
SUMMARY:Holy Eucharist
DESCRIPTION:Worship with us during our weekly service of Holy Eucharist\, online or in person. \n  \nZoom Link \nZoom Meeting ID: 935 9524 6192 \nPasscode: 596538 \n  \n 
URL:https://stmargaretsdc.org/event/service-of-holy-eucharist/2026-08-16/
CATEGORIES:Family Friendly,Worship
ATTACH;FMTTYPE=image/jpeg:https://stmargaretsdc.org/wp-content/uploads/2021/09/Gallery_5.jpg
END:VEVENT
BEGIN:VEVENT
DTSTART;TZID=America/Detroit:20260818T073000
DTEND;TZID=America/Detroit:20260818T083000
DTSTAMP:20260422T171458
CREATED:20231214T211857Z
LAST-MODIFIED:20251029T144356Z
UID:10006551-1787038200-1787041800@stmargaretsdc.org
SUMMARY:Charlie's Place Bible Study Group
DESCRIPTION:Charlie’s Place offers a warm and calm space where people experiencing homelessness get basic needs met while also finding the resources they need to empower themselves and better their lives. Join members of the Charlie’s Place weekly prayer and Bible study group\, where people of diverse backgrounds and lived experiences are brought together by the power of prayer and the study of God’s Word. For details on how to get involved\, email Ann Yonemura.
URL:https://stmargaretsdc.org/event/charlies-place-morning-prayer-bible-study-group-2022-08-03-2/2026-08-18/
CATEGORIES:Charlie's Place,Support Groups,Worship
ATTACH;FMTTYPE=image/png:https://stmargaretsdc.org/wp-content/uploads/2021/09/Bible-Study.png
END:VEVENT
BEGIN:VEVENT
DTSTART;TZID=America/Detroit:20260823T103000
DTEND;TZID=America/Detroit:20260823T233000
DTSTAMP:20260422T171458
CREATED:20220113T170006Z
LAST-MODIFIED:20220921T145626Z
UID:10005954-1787481000-1787527800@stmargaretsdc.org
SUMMARY:Holy Eucharist
DESCRIPTION:Worship with us during our weekly service of Holy Eucharist\, online or in person. \n  \nZoom Link \nZoom Meeting ID: 935 9524 6192 \nPasscode: 596538 \n  \n 
URL:https://stmargaretsdc.org/event/service-of-holy-eucharist/2026-08-23/
CATEGORIES:Family Friendly,Worship
ATTACH;FMTTYPE=image/jpeg:https://stmargaretsdc.org/wp-content/uploads/2021/09/Gallery_5.jpg
END:VEVENT
BEGIN:VEVENT
DTSTART;TZID=America/Detroit:20260825T073000
DTEND;TZID=America/Detroit:20260825T083000
DTSTAMP:20260422T171458
CREATED:20231214T211857Z
LAST-MODIFIED:20251029T144356Z
UID:10006552-1787643000-1787646600@stmargaretsdc.org
SUMMARY:Charlie's Place Bible Study Group
DESCRIPTION:Charlie’s Place offers a warm and calm space where people experiencing homelessness get basic needs met while also finding the resources they need to empower themselves and better their lives. Join members of the Charlie’s Place weekly prayer and Bible study group\, where people of diverse backgrounds and lived experiences are brought together by the power of prayer and the study of God’s Word. For details on how to get involved\, email Ann Yonemura.
URL:https://stmargaretsdc.org/event/charlies-place-morning-prayer-bible-study-group-2022-08-03-2/2026-08-25/
CATEGORIES:Charlie's Place,Support Groups,Worship
ATTACH;FMTTYPE=image/png:https://stmargaretsdc.org/wp-content/uploads/2021/09/Bible-Study.png
END:VEVENT
BEGIN:VEVENT
DTSTART;TZID=America/Detroit:20260830T103000
DTEND;TZID=America/Detroit:20260830T233000
DTSTAMP:20260422T171458
CREATED:20220113T170006Z
LAST-MODIFIED:20220921T145626Z
UID:10005955-1788085800-1788132600@stmargaretsdc.org
SUMMARY:Holy Eucharist
DESCRIPTION:Worship with us during our weekly service of Holy Eucharist\, online or in person. \n  \nZoom Link \nZoom Meeting ID: 935 9524 6192 \nPasscode: 596538 \n  \n 
URL:https://stmargaretsdc.org/event/service-of-holy-eucharist/2026-08-30/
CATEGORIES:Family Friendly,Worship
ATTACH;FMTTYPE=image/jpeg:https://stmargaretsdc.org/wp-content/uploads/2021/09/Gallery_5.jpg
END:VEVENT
BEGIN:VEVENT
DTSTART;TZID=America/Detroit:20260901T073000
DTEND;TZID=America/Detroit:20260901T083000
DTSTAMP:20260422T171458
CREATED:20231214T211857Z
LAST-MODIFIED:20251029T144356Z
UID:10006553-1788247800-1788251400@stmargaretsdc.org
SUMMARY:Charlie's Place Bible Study Group
DESCRIPTION:Charlie’s Place offers a warm and calm space where people experiencing homelessness get basic needs met while also finding the resources they need to empower themselves and better their lives. Join members of the Charlie’s Place weekly prayer and Bible study group\, where people of diverse backgrounds and lived experiences are brought together by the power of prayer and the study of God’s Word. For details on how to get involved\, email Ann Yonemura.
URL:https://stmargaretsdc.org/event/charlies-place-morning-prayer-bible-study-group-2022-08-03-2/2026-09-01/
CATEGORIES:Charlie's Place,Support Groups,Worship
ATTACH;FMTTYPE=image/png:https://stmargaretsdc.org/wp-content/uploads/2021/09/Bible-Study.png
END:VEVENT
BEGIN:VEVENT
DTSTART;TZID=America/Detroit:20260906T103000
DTEND;TZID=America/Detroit:20260906T233000
DTSTAMP:20260422T171458
CREATED:20220113T170006Z
LAST-MODIFIED:20220921T145626Z
UID:10005956-1788690600-1788737400@stmargaretsdc.org
SUMMARY:Holy Eucharist
DESCRIPTION:Worship with us during our weekly service of Holy Eucharist\, online or in person. \n  \nZoom Link \nZoom Meeting ID: 935 9524 6192 \nPasscode: 596538 \n  \n 
URL:https://stmargaretsdc.org/event/service-of-holy-eucharist/2026-09-06/
CATEGORIES:Family Friendly,Worship
ATTACH;FMTTYPE=image/jpeg:https://stmargaretsdc.org/wp-content/uploads/2021/09/Gallery_5.jpg
END:VEVENT
BEGIN:VEVENT
DTSTART;TZID=America/Detroit:20260908T073000
DTEND;TZID=America/Detroit:20260908T083000
DTSTAMP:20260422T171458
CREATED:20231214T211857Z
LAST-MODIFIED:20251029T144356Z
UID:10006554-1788852600-1788856200@stmargaretsdc.org
SUMMARY:Charlie's Place Bible Study Group
DESCRIPTION:Charlie’s Place offers a warm and calm space where people experiencing homelessness get basic needs met while also finding the resources they need to empower themselves and better their lives. Join members of the Charlie’s Place weekly prayer and Bible study group\, where people of diverse backgrounds and lived experiences are brought together by the power of prayer and the study of God’s Word. For details on how to get involved\, email Ann Yonemura.
URL:https://stmargaretsdc.org/event/charlies-place-morning-prayer-bible-study-group-2022-08-03-2/2026-09-08/
CATEGORIES:Charlie's Place,Support Groups,Worship
ATTACH;FMTTYPE=image/png:https://stmargaretsdc.org/wp-content/uploads/2021/09/Bible-Study.png
END:VEVENT
BEGIN:VEVENT
DTSTART;TZID=America/Detroit:20260913T103000
DTEND;TZID=America/Detroit:20260913T233000
DTSTAMP:20260422T171458
CREATED:20220113T170006Z
LAST-MODIFIED:20220921T145626Z
UID:10005957-1789295400-1789342200@stmargaretsdc.org
SUMMARY:Holy Eucharist
DESCRIPTION:Worship with us during our weekly service of Holy Eucharist\, online or in person. \n  \nZoom Link \nZoom Meeting ID: 935 9524 6192 \nPasscode: 596538 \n  \n 
URL:https://stmargaretsdc.org/event/service-of-holy-eucharist/2026-09-13/
CATEGORIES:Family Friendly,Worship
ATTACH;FMTTYPE=image/jpeg:https://stmargaretsdc.org/wp-content/uploads/2021/09/Gallery_5.jpg
END:VEVENT
BEGIN:VEVENT
DTSTART;TZID=America/Detroit:20260915T073000
DTEND;TZID=America/Detroit:20260915T083000
DTSTAMP:20260422T171458
CREATED:20231214T211857Z
LAST-MODIFIED:20251029T144356Z
UID:10006555-1789457400-1789461000@stmargaretsdc.org
SUMMARY:Charlie's Place Bible Study Group
DESCRIPTION:Charlie’s Place offers a warm and calm space where people experiencing homelessness get basic needs met while also finding the resources they need to empower themselves and better their lives. Join members of the Charlie’s Place weekly prayer and Bible study group\, where people of diverse backgrounds and lived experiences are brought together by the power of prayer and the study of God’s Word. For details on how to get involved\, email Ann Yonemura.
URL:https://stmargaretsdc.org/event/charlies-place-morning-prayer-bible-study-group-2022-08-03-2/2026-09-15/
CATEGORIES:Charlie's Place,Support Groups,Worship
ATTACH;FMTTYPE=image/png:https://stmargaretsdc.org/wp-content/uploads/2021/09/Bible-Study.png
END:VEVENT
BEGIN:VEVENT
DTSTART;TZID=America/Detroit:20260920T103000
DTEND;TZID=America/Detroit:20260920T233000
DTSTAMP:20260422T171458
CREATED:20220113T170006Z
LAST-MODIFIED:20220921T145626Z
UID:10005958-1789900200-1789947000@stmargaretsdc.org
SUMMARY:Holy Eucharist
DESCRIPTION:Worship with us during our weekly service of Holy Eucharist\, online or in person. \n  \nZoom Link \nZoom Meeting ID: 935 9524 6192 \nPasscode: 596538 \n  \n 
URL:https://stmargaretsdc.org/event/service-of-holy-eucharist/2026-09-20/
CATEGORIES:Family Friendly,Worship
ATTACH;FMTTYPE=image/jpeg:https://stmargaretsdc.org/wp-content/uploads/2021/09/Gallery_5.jpg
END:VEVENT
BEGIN:VEVENT
DTSTART;TZID=America/Detroit:20260922T073000
DTEND;TZID=America/Detroit:20260922T083000
DTSTAMP:20260422T171458
CREATED:20231214T211857Z
LAST-MODIFIED:20251029T144356Z
UID:10006556-1790062200-1790065800@stmargaretsdc.org
SUMMARY:Charlie's Place Bible Study Group
DESCRIPTION:Charlie’s Place offers a warm and calm space where people experiencing homelessness get basic needs met while also finding the resources they need to empower themselves and better their lives. Join members of the Charlie’s Place weekly prayer and Bible study group\, where people of diverse backgrounds and lived experiences are brought together by the power of prayer and the study of God’s Word. For details on how to get involved\, email Ann Yonemura.
URL:https://stmargaretsdc.org/event/charlies-place-morning-prayer-bible-study-group-2022-08-03-2/2026-09-22/
CATEGORIES:Charlie's Place,Support Groups,Worship
ATTACH;FMTTYPE=image/png:https://stmargaretsdc.org/wp-content/uploads/2021/09/Bible-Study.png
END:VEVENT
BEGIN:VEVENT
DTSTART;TZID=America/Detroit:20260927T103000
DTEND;TZID=America/Detroit:20260927T233000
DTSTAMP:20260422T171458
CREATED:20220113T170006Z
LAST-MODIFIED:20220921T145626Z
UID:10005959-1790505000-1790551800@stmargaretsdc.org
SUMMARY:Holy Eucharist
DESCRIPTION:Worship with us during our weekly service of Holy Eucharist\, online or in person. \n  \nZoom Link \nZoom Meeting ID: 935 9524 6192 \nPasscode: 596538 \n  \n 
URL:https://stmargaretsdc.org/event/service-of-holy-eucharist/2026-09-27/
CATEGORIES:Family Friendly,Worship
ATTACH;FMTTYPE=image/jpeg:https://stmargaretsdc.org/wp-content/uploads/2021/09/Gallery_5.jpg
END:VEVENT
BEGIN:VEVENT
DTSTART;TZID=America/Detroit:20260929T073000
DTEND;TZID=America/Detroit:20260929T083000
DTSTAMP:20260422T171458
CREATED:20231214T211857Z
LAST-MODIFIED:20251029T144356Z
UID:10006557-1790667000-1790670600@stmargaretsdc.org
SUMMARY:Charlie's Place Bible Study Group
DESCRIPTION:Charlie’s Place offers a warm and calm space where people experiencing homelessness get basic needs met while also finding the resources they need to empower themselves and better their lives. Join members of the Charlie’s Place weekly prayer and Bible study group\, where people of diverse backgrounds and lived experiences are brought together by the power of prayer and the study of God’s Word. For details on how to get involved\, email Ann Yonemura.
URL:https://stmargaretsdc.org/event/charlies-place-morning-prayer-bible-study-group-2022-08-03-2/2026-09-29/
CATEGORIES:Charlie's Place,Support Groups,Worship
ATTACH;FMTTYPE=image/png:https://stmargaretsdc.org/wp-content/uploads/2021/09/Bible-Study.png
END:VEVENT
BEGIN:VEVENT
DTSTART;TZID=America/Detroit:20261004T103000
DTEND;TZID=America/Detroit:20261004T233000
DTSTAMP:20260422T171458
CREATED:20220113T170006Z
LAST-MODIFIED:20220921T145626Z
UID:10005960-1791109800-1791156600@stmargaretsdc.org
SUMMARY:Holy Eucharist
DESCRIPTION:Worship with us during our weekly service of Holy Eucharist\, online or in person. \n  \nZoom Link \nZoom Meeting ID: 935 9524 6192 \nPasscode: 596538 \n  \n 
URL:https://stmargaretsdc.org/event/service-of-holy-eucharist/2026-10-04/
CATEGORIES:Family Friendly,Worship
ATTACH;FMTTYPE=image/jpeg:https://stmargaretsdc.org/wp-content/uploads/2021/09/Gallery_5.jpg
END:VEVENT
BEGIN:VEVENT
DTSTART;TZID=America/Detroit:20261006T073000
DTEND;TZID=America/Detroit:20261006T083000
DTSTAMP:20260422T171458
CREATED:20231214T211857Z
LAST-MODIFIED:20251029T144356Z
UID:10006558-1791271800-1791275400@stmargaretsdc.org
SUMMARY:Charlie's Place Bible Study Group
DESCRIPTION:Charlie’s Place offers a warm and calm space where people experiencing homelessness get basic needs met while also finding the resources they need to empower themselves and better their lives. Join members of the Charlie’s Place weekly prayer and Bible study group\, where people of diverse backgrounds and lived experiences are brought together by the power of prayer and the study of God’s Word. For details on how to get involved\, email Ann Yonemura.
URL:https://stmargaretsdc.org/event/charlies-place-morning-prayer-bible-study-group-2022-08-03-2/2026-10-06/
CATEGORIES:Charlie's Place,Support Groups,Worship
ATTACH;FMTTYPE=image/png:https://stmargaretsdc.org/wp-content/uploads/2021/09/Bible-Study.png
END:VEVENT
BEGIN:VEVENT
DTSTART;TZID=America/Detroit:20261011T103000
DTEND;TZID=America/Detroit:20261011T233000
DTSTAMP:20260422T171458
CREATED:20220113T170006Z
LAST-MODIFIED:20220921T145626Z
UID:10005961-1791714600-1791761400@stmargaretsdc.org
SUMMARY:Holy Eucharist
DESCRIPTION:Worship with us during our weekly service of Holy Eucharist\, online or in person. \n  \nZoom Link \nZoom Meeting ID: 935 9524 6192 \nPasscode: 596538 \n  \n 
URL:https://stmargaretsdc.org/event/service-of-holy-eucharist/2026-10-11/
CATEGORIES:Family Friendly,Worship
ATTACH;FMTTYPE=image/jpeg:https://stmargaretsdc.org/wp-content/uploads/2021/09/Gallery_5.jpg
END:VEVENT
BEGIN:VEVENT
DTSTART;TZID=America/Detroit:20261013T073000
DTEND;TZID=America/Detroit:20261013T083000
DTSTAMP:20260422T171458
CREATED:20231214T211857Z
LAST-MODIFIED:20251029T144356Z
UID:10006559-1791876600-1791880200@stmargaretsdc.org
SUMMARY:Charlie's Place Bible Study Group
DESCRIPTION:Charlie’s Place offers a warm and calm space where people experiencing homelessness get basic needs met while also finding the resources they need to empower themselves and better their lives. Join members of the Charlie’s Place weekly prayer and Bible study group\, where people of diverse backgrounds and lived experiences are brought together by the power of prayer and the study of God’s Word. For details on how to get involved\, email Ann Yonemura.
URL:https://stmargaretsdc.org/event/charlies-place-morning-prayer-bible-study-group-2022-08-03-2/2026-10-13/
CATEGORIES:Charlie's Place,Support Groups,Worship
ATTACH;FMTTYPE=image/png:https://stmargaretsdc.org/wp-content/uploads/2021/09/Bible-Study.png
END:VEVENT
BEGIN:VEVENT
DTSTART;TZID=America/Detroit:20261018T103000
DTEND;TZID=America/Detroit:20261018T233000
DTSTAMP:20260422T171458
CREATED:20220113T170006Z
LAST-MODIFIED:20220921T145626Z
UID:10005962-1792319400-1792366200@stmargaretsdc.org
SUMMARY:Holy Eucharist
DESCRIPTION:Worship with us during our weekly service of Holy Eucharist\, online or in person. \n  \nZoom Link \nZoom Meeting ID: 935 9524 6192 \nPasscode: 596538 \n  \n 
URL:https://stmargaretsdc.org/event/service-of-holy-eucharist/2026-10-18/
CATEGORIES:Family Friendly,Worship
ATTACH;FMTTYPE=image/jpeg:https://stmargaretsdc.org/wp-content/uploads/2021/09/Gallery_5.jpg
END:VEVENT
BEGIN:VEVENT
DTSTART;TZID=America/Detroit:20261020T073000
DTEND;TZID=America/Detroit:20261020T083000
DTSTAMP:20260422T171458
CREATED:20231214T211857Z
LAST-MODIFIED:20251029T144356Z
UID:10006560-1792481400-1792485000@stmargaretsdc.org
SUMMARY:Charlie's Place Bible Study Group
DESCRIPTION:Charlie’s Place offers a warm and calm space where people experiencing homelessness get basic needs met while also finding the resources they need to empower themselves and better their lives. Join members of the Charlie’s Place weekly prayer and Bible study group\, where people of diverse backgrounds and lived experiences are brought together by the power of prayer and the study of God’s Word. For details on how to get involved\, email Ann Yonemura.
URL:https://stmargaretsdc.org/event/charlies-place-morning-prayer-bible-study-group-2022-08-03-2/2026-10-20/
CATEGORIES:Charlie's Place,Support Groups,Worship
ATTACH;FMTTYPE=image/png:https://stmargaretsdc.org/wp-content/uploads/2021/09/Bible-Study.png
END:VEVENT
BEGIN:VEVENT
DTSTART;TZID=America/Detroit:20261025T103000
DTEND;TZID=America/Detroit:20261025T233000
DTSTAMP:20260422T171458
CREATED:20220113T170006Z
LAST-MODIFIED:20220921T145626Z
UID:10005963-1792924200-1792971000@stmargaretsdc.org
SUMMARY:Holy Eucharist
DESCRIPTION:Worship with us during our weekly service of Holy Eucharist\, online or in person. \n  \nZoom Link \nZoom Meeting ID: 935 9524 6192 \nPasscode: 596538 \n  \n 
URL:https://stmargaretsdc.org/event/service-of-holy-eucharist/2026-10-25/
CATEGORIES:Family Friendly,Worship
ATTACH;FMTTYPE=image/jpeg:https://stmargaretsdc.org/wp-content/uploads/2021/09/Gallery_5.jpg
END:VEVENT
BEGIN:VEVENT
DTSTART;TZID=America/Detroit:20261027T073000
DTEND;TZID=America/Detroit:20261027T083000
DTSTAMP:20260422T171458
CREATED:20231214T211857Z
LAST-MODIFIED:20251029T144356Z
UID:10006561-1793086200-1793089800@stmargaretsdc.org
SUMMARY:Charlie's Place Bible Study Group
DESCRIPTION:Charlie’s Place offers a warm and calm space where people experiencing homelessness get basic needs met while also finding the resources they need to empower themselves and better their lives. Join members of the Charlie’s Place weekly prayer and Bible study group\, where people of diverse backgrounds and lived experiences are brought together by the power of prayer and the study of God’s Word. For details on how to get involved\, email Ann Yonemura.
URL:https://stmargaretsdc.org/event/charlies-place-morning-prayer-bible-study-group-2022-08-03-2/2026-10-27/
CATEGORIES:Charlie's Place,Support Groups,Worship
ATTACH;FMTTYPE=image/png:https://stmargaretsdc.org/wp-content/uploads/2021/09/Bible-Study.png
END:VEVENT
BEGIN:VEVENT
DTSTART;TZID=America/Detroit:20261101T103000
DTEND;TZID=America/Detroit:20261101T233000
DTSTAMP:20260422T171458
CREATED:20220113T170006Z
LAST-MODIFIED:20220921T145626Z
UID:10005964-1793529000-1793575800@stmargaretsdc.org
SUMMARY:Holy Eucharist
DESCRIPTION:Worship with us during our weekly service of Holy Eucharist\, online or in person. \n  \nZoom Link \nZoom Meeting ID: 935 9524 6192 \nPasscode: 596538 \n  \n 
URL:https://stmargaretsdc.org/event/service-of-holy-eucharist/2026-11-01/
CATEGORIES:Family Friendly,Worship
ATTACH;FMTTYPE=image/jpeg:https://stmargaretsdc.org/wp-content/uploads/2021/09/Gallery_5.jpg
END:VEVENT
BEGIN:VEVENT
DTSTART;TZID=America/Detroit:20261103T073000
DTEND;TZID=America/Detroit:20261103T083000
DTSTAMP:20260422T171458
CREATED:20231214T211857Z
LAST-MODIFIED:20251029T144356Z
UID:10006562-1793691000-1793694600@stmargaretsdc.org
SUMMARY:Charlie's Place Bible Study Group
DESCRIPTION:Charlie’s Place offers a warm and calm space where people experiencing homelessness get basic needs met while also finding the resources they need to empower themselves and better their lives. Join members of the Charlie’s Place weekly prayer and Bible study group\, where people of diverse backgrounds and lived experiences are brought together by the power of prayer and the study of God’s Word. For details on how to get involved\, email Ann Yonemura.
URL:https://stmargaretsdc.org/event/charlies-place-morning-prayer-bible-study-group-2022-08-03-2/2026-11-03/
CATEGORIES:Charlie's Place,Support Groups,Worship
ATTACH;FMTTYPE=image/png:https://stmargaretsdc.org/wp-content/uploads/2021/09/Bible-Study.png
END:VEVENT
BEGIN:VEVENT
DTSTART;TZID=America/Detroit:20261108T103000
DTEND;TZID=America/Detroit:20261108T233000
DTSTAMP:20260422T171458
CREATED:20220113T170006Z
LAST-MODIFIED:20220921T145626Z
UID:10005965-1794133800-1794180600@stmargaretsdc.org
SUMMARY:Holy Eucharist
DESCRIPTION:Worship with us during our weekly service of Holy Eucharist\, online or in person. \n  \nZoom Link \nZoom Meeting ID: 935 9524 6192 \nPasscode: 596538 \n  \n 
URL:https://stmargaretsdc.org/event/service-of-holy-eucharist/2026-11-08/
CATEGORIES:Family Friendly,Worship
ATTACH;FMTTYPE=image/jpeg:https://stmargaretsdc.org/wp-content/uploads/2021/09/Gallery_5.jpg
END:VEVENT
END:VCALENDAR