BEGIN:VCALENDAR
VERSION:2.0
PRODID:-//St. Margaret&#039;s Episcopal Church - Washington D.C. - ECPv6.15.18//NONSGML v1.0//EN
CALSCALE:GREGORIAN
METHOD:PUBLISH
X-ORIGINAL-URL:https://stmargaretsdc.org
X-WR-CALDESC:Events for St. Margaret&#039;s Episcopal Church - Washington D.C.
REFRESH-INTERVAL;VALUE=DURATION:PT1H
X-Robots-Tag:noindex
X-PUBLISHED-TTL:PT1H
BEGIN:VTIMEZONE
TZID:America/Detroit
BEGIN:DAYLIGHT
TZOFFSETFROM:-0500
TZOFFSETTO:-0400
TZNAME:EDT
DTSTART:20200308T070000
END:DAYLIGHT
BEGIN:STANDARD
TZOFFSETFROM:-0400
TZOFFSETTO:-0500
TZNAME:EST
DTSTART:20201101T060000
END:STANDARD
BEGIN:DAYLIGHT
TZOFFSETFROM:-0500
TZOFFSETTO:-0400
TZNAME:EDT
DTSTART:20210314T070000
END:DAYLIGHT
BEGIN:STANDARD
TZOFFSETFROM:-0400
TZOFFSETTO:-0500
TZNAME:EST
DTSTART:20211107T060000
END:STANDARD
BEGIN:DAYLIGHT
TZOFFSETFROM:-0500
TZOFFSETTO:-0400
TZNAME:EDT
DTSTART:20220313T070000
END:DAYLIGHT
BEGIN:STANDARD
TZOFFSETFROM:-0400
TZOFFSETTO:-0500
TZNAME:EST
DTSTART:20221106T060000
END:STANDARD
BEGIN:DAYLIGHT
TZOFFSETFROM:-0500
TZOFFSETTO:-0400
TZNAME:EDT
DTSTART:20230312T070000
END:DAYLIGHT
BEGIN:STANDARD
TZOFFSETFROM:-0400
TZOFFSETTO:-0500
TZNAME:EST
DTSTART:20231105T060000
END:STANDARD
BEGIN:DAYLIGHT
TZOFFSETFROM:-0500
TZOFFSETTO:-0400
TZNAME:EDT
DTSTART:20240310T070000
END:DAYLIGHT
BEGIN:STANDARD
TZOFFSETFROM:-0400
TZOFFSETTO:-0500
TZNAME:EST
DTSTART:20241103T060000
END:STANDARD
BEGIN:DAYLIGHT
TZOFFSETFROM:-0500
TZOFFSETTO:-0400
TZNAME:EDT
DTSTART:20250309T070000
END:DAYLIGHT
BEGIN:STANDARD
TZOFFSETFROM:-0400
TZOFFSETTO:-0500
TZNAME:EST
DTSTART:20251102T060000
END:STANDARD
BEGIN:DAYLIGHT
TZOFFSETFROM:-0500
TZOFFSETTO:-0400
TZNAME:EDT
DTSTART:20260308T070000
END:DAYLIGHT
BEGIN:STANDARD
TZOFFSETFROM:-0400
TZOFFSETTO:-0500
TZNAME:EST
DTSTART:20261101T060000
END:STANDARD
BEGIN:DAYLIGHT
TZOFFSETFROM:-0500
TZOFFSETTO:-0400
TZNAME:EDT
DTSTART:20270314T070000
END:DAYLIGHT
BEGIN:STANDARD
TZOFFSETFROM:-0400
TZOFFSETTO:-0500
TZNAME:EST
DTSTART:20271107T060000
END:STANDARD
END:VTIMEZONE
BEGIN:VEVENT
DTSTART;TZID=America/Detroit:20260125T120000
DTEND;TZID=America/Detroit:20260125T130000
DTSTAMP:20260422T060407
CREATED:20260121T210504Z
LAST-MODIFIED:20260121T210504Z
UID:10009695-1769342400-1769346000@stmargaretsdc.org
SUMMARY:Vestry Candidate Forum
DESCRIPTION:Join online via Zoom. Read the Vestry Candidate Questionnaire here. \nZoom Link \nZoom Meeting ID: 935 9524 6192 \nPasscode: 596538
URL:https://stmargaretsdc.org/event/vestry-candidate-forum/
CATEGORIES:Other Events
ATTACH;FMTTYPE=image/jpeg:https://stmargaretsdc.org/wp-content/uploads/2021/06/StMs_512.jpg
END:VEVENT
BEGIN:VEVENT
DTSTART;TZID=America/Detroit:20240713T103000
DTEND;TZID=America/Detroit:20240713T123000
DTSTAMP:20260422T060407
CREATED:20240613T184004Z
LAST-MODIFIED:20240613T184050Z
UID:10007147-1720866600-1720873800@stmargaretsdc.org
SUMMARY:Tudor Place Tour and Picnic
DESCRIPTION:Join the Racial Justice Task Force for a curator-led tour of Ancestral Spaces: People of African Descent at Tudor Place. We will hear the history of the people and families enslaved to the owners of this historic Georgetown estate. The exhibition\, planned with participation by descendants of the African American community of Tudor Place\, reflects the ongoing process of coming to terms with the history of the site. After the tour we will move to the beautiful gardens for a prayer service and a BYO lunch or snack. Register Early: there are only 15 spots available. 1644 31st Street NW. Contact Ann Yonemura for details or visit the Tudor Place website. Note: The tour requires standing and walking stairs. There is no parking onsite and neighborhood parking is limited. Other transportation is highly recommended.\nIf you miss this tour\, the exhibition is open until October 13\, Tuesday through Saturday 10:00-4:00. Tickets for non-members are $10 adult/$5 seniors\, military\, and students.
URL:https://stmargaretsdc.org/event/tudor-place-tour-and-picnic/
CATEGORIES:Other Events,Racial Justice Task Force
ATTACH;FMTTYPE=image/jpeg:https://stmargaretsdc.org/wp-content/uploads/2024/06/Image-6-12-24-at-5.17 PM.jpg
END:VEVENT
BEGIN:VEVENT
DTSTART;TZID=America/Detroit:20240510T191500
DTEND;TZID=America/Detroit:20240510T210000
DTSTAMP:20260422T060407
CREATED:20240423T172514Z
LAST-MODIFIED:20240425T174313Z
UID:10007052-1715368500-1715374800@stmargaretsdc.org
SUMMARY:Maggie's Cabaret
DESCRIPTION:After a hiatus\, we are excited to restart our popular Maggie’s Cabaret series with a Friday\, May 10 show by BroadwayWorld’s Best Cabaret Solo Performance Artist in DC 2023\, singer Susan Derry\, with the wonderful Howard Breitbart as musical director and accompanist. Maggie’s Cabaret is a fundraising event for St. Margaret’s. With a suggested donation of $20 attendees receive a beverage and nibbles as they prepare to enjoy an hour of high quality talent\, using material from the Great American Songbook\, Broadway\, and other sources to deliver a memorable experience in the intimacy of our Parish Hall. No advance ticket sales; the doors open at 7:15 pm and the performance starts at 8:00. Bring a friend and enjoy a night out as we savor our spring weather!
URL:https://stmargaretsdc.org/event/maggies-cabaret/
CATEGORIES:Other Events,Parish Events
ATTACH;FMTTYPE=image/jpeg:https://stmargaretsdc.org/wp-content/uploads/2021/06/StMs_512.jpg
END:VEVENT
BEGIN:VEVENT
DTSTART;TZID=America/Detroit:20240113T170000
DTEND;TZID=America/Detroit:20240113T180000
DTSTAMP:20260422T060407
CREATED:20231221T205518Z
LAST-MODIFIED:20240110T180920Z
UID:10006962-1705165200-1705168800@stmargaretsdc.org
SUMMARY:Relic in Concert
DESCRIPTION:Join Relic on a journey through the Enchanted Forest. From elves and nymphs to trolls and witches\, this program sparkles with pleasures and curiosities from the English and French Baroque. \nFormed in 2022 by alumni of the Juilliard Historical Performance Program\, Relic is a touring period chamber orchestra with the goal of sharing their music with people in all 50 states. For more info visit our website. \nWhat to Expect: \n\nTickets are not required\, just show up! Suggested donation of $15\, proceeds divided evenly between the ensemble and the St. Margaret’s Music Fund. Donate here.\nThe program will be 1-hour without intermission\nFree street parking available nearby (weekends)\n8 minute walk from the Dupont Circle Metro Station (Red Line)\n\n 
URL:https://stmargaretsdc.org/event/relic-in-concert/
CATEGORIES:Other Events
ATTACH;FMTTYPE=application/pdf:https://stmargaretsdc.org/wp-content/uploads/2023/12/Concert_Flyer_1_13_23-1.pdf
END:VEVENT
BEGIN:VEVENT
DTSTART;TZID=America/Detroit:20231110T150000
DTEND;TZID=America/Detroit:20231110T170000
DTSTAMP:20260422T060407
CREATED:20231019T154120Z
LAST-MODIFIED:20231019T154120Z
UID:10006345-1699628400-1699635600@stmargaretsdc.org
SUMMARY:KnitOne—CureOne Wearable Fiber Arts Fundraiser
DESCRIPTION:Get a head start on your holiday shopping at a sale featuring wearable\, hand-made knitted items\, and gift selections. Sale proceeds support breast cancer research and community care through Charlie’s Place. KnitOne—CureOne is a 501c3 charity. Questions? Email Kathleen Scholl or Anne Whitman.
URL:https://stmargaretsdc.org/event/knitone-cureone-wearable-fiber-arts-fundraiser/
CATEGORIES:Charlie's Place,Other Events
ATTACH;FMTTYPE=image/jpeg:https://stmargaretsdc.org/wp-content/uploads/2023/10/K1C1_logo_purpletext-1.jpg
END:VEVENT
BEGIN:VEVENT
DTSTART;TZID=America/Detroit:20230716T120000
DTEND;TZID=America/Detroit:20230716T140000
DTSTAMP:20260422T060407
CREATED:20230623T145737Z
LAST-MODIFIED:20230702T153023Z
UID:10006218-1689508800-1689516000@stmargaretsdc.org
SUMMARY:Lunch in Our Neighborhood
DESCRIPTION:New to St. Margaret’s and want to meet people? Hungry to grow relationships? Here’s your chance to talk to others just a little longer than Coffee Hour. Newcomers are especially welcome to lunch with other adventures souls. We have a lot of fun and good food. \nRSVP here and we’ll save you a seat for our lunch after service at Mission DuPont (1606 20th St NW\, Washington\, DC 20009). \n 
URL:https://stmargaretsdc.org/event/lunch-in-our-neighborhood-4/
CATEGORIES:Other Events,Parish Events
ATTACH;FMTTYPE=image/jpeg:https://stmargaretsdc.org/wp-content/uploads/2023/05/Lunch-in-neighborhood-scaled.jpg
END:VEVENT
BEGIN:VEVENT
DTSTART;TZID=America/Detroit:20230611T121500
DTEND;TZID=America/Detroit:20230611T140000
DTSTAMP:20260422T060407
CREATED:20230601T220730Z
LAST-MODIFIED:20230601T220810Z
UID:10005035-1686485700-1686492000@stmargaretsdc.org
SUMMARY:Lunch in Our Neighborhood
DESCRIPTION:Newcomers are especially welcome to lunch at Thai Chef Street Food with other adventurous souls. We have a lot of fun and good food. For more information\, email Daniel Sherman or JD Mancini. RSVP here.
URL:https://stmargaretsdc.org/event/lunch-in-our-neighborhood-3/
CATEGORIES:Other Events,Parish Events
ATTACH;FMTTYPE=image/jpeg:https://stmargaretsdc.org/wp-content/uploads/2023/05/Lunch-in-neighborhood-scaled.jpg
END:VEVENT
BEGIN:VEVENT
DTSTART;TZID=America/Detroit:20230506T110000
DTEND;TZID=America/Detroit:20230506T130000
DTSTAMP:20260422T060407
CREATED:20230421T180446Z
LAST-MODIFIED:20230504T233636Z
UID:10005032-1683370800-1683378000@stmargaretsdc.org
SUMMARY:AAPI DC Extravaganza
DESCRIPTION:Join members of St. Margaret’s at a public tour of an Ay-o exhibition at the Sackler Gallery by curator Kit Brooks. This exhibition may not be appropriate for children. Please arrive early. \nFollow at noon with a short visit to the Freer’s exhibition of Japanese Buddhist writings led by Ann Yonemura. We will continue to a nearby courtyard for snacks to talk about what we’ve experienced. \nAnn is an art historian and Senior Curator of Japanese Art at the Freer and Sackler Galleries. In gratitude and respect for the gifts and presence of people of AAPI ancestry in all our lives and congregation\, we hope you’ll join us. \nPlease RSVP here.
URL:https://stmargaretsdc.org/event/aapi-dc-extravaganza/
LOCATION:Sackler Gallery\, 1050 Independence Avenue SW\, Washington DC\, DC\, 20003\, United States
CATEGORIES:Other Events
ATTACH;FMTTYPE=image/webp:https://stmargaretsdc.org/wp-content/uploads/2023/04/ay-banner-S2021.5.5-scaled-1.webp
ORGANIZER;CN="St. Margaret's":MAILTO:office@stmargaretsdc.org
END:VEVENT
BEGIN:VEVENT
DTSTART;TZID=America/Detroit:20220907T190000
DTEND;TZID=America/Detroit:20220907T194500
DTSTAMP:20260422T060407
CREATED:20220531T142100Z
LAST-MODIFIED:20220811T191950Z
UID:10006128-1662577200-1662579900@stmargaretsdc.org
SUMMARY:Prayer Circle
DESCRIPTION:Join in a simple service of healing prayer and intercession for people on the Zoom call as well as those on our prayer list. Our intention also is to share information on congregants possibly in need of prayer and outreach. All are welcome. \nZoom Link \nMeeting ID: 882 1993 5556 \nPasscode: 576111
URL:https://stmargaretsdc.org/event/prayer-circle/2022-09-07/
CATEGORIES:Other Events,Parish Events,Prayer Group,Support Groups
ATTACH;FMTTYPE=image/png:https://stmargaretsdc.org/wp-content/uploads/2021/09/Bible-Study.png
END:VEVENT
BEGIN:VEVENT
DTSTART;TZID=America/Detroit:20220824T190000
DTEND;TZID=America/Detroit:20220824T194500
DTSTAMP:20260422T060407
CREATED:20220531T142100Z
LAST-MODIFIED:20220811T191950Z
UID:10006127-1661367600-1661370300@stmargaretsdc.org
SUMMARY:Prayer Circle
DESCRIPTION:Join in a simple service of healing prayer and intercession for people on the Zoom call as well as those on our prayer list. Our intention also is to share information on congregants possibly in need of prayer and outreach. All are welcome. \nZoom Link \nMeeting ID: 882 1993 5556 \nPasscode: 576111
URL:https://stmargaretsdc.org/event/prayer-circle/2022-08-24/
CATEGORIES:Other Events,Parish Events,Prayer Group,Support Groups
ATTACH;FMTTYPE=image/png:https://stmargaretsdc.org/wp-content/uploads/2021/09/Bible-Study.png
END:VEVENT
BEGIN:VEVENT
DTSTART;TZID=America/Detroit:20220810T190000
DTEND;TZID=America/Detroit:20220810T194500
DTSTAMP:20260422T060407
CREATED:20220531T142100Z
LAST-MODIFIED:20220811T191950Z
UID:10006126-1660158000-1660160700@stmargaretsdc.org
SUMMARY:Prayer Circle
DESCRIPTION:Join in a simple service of healing prayer and intercession for people on the Zoom call as well as those on our prayer list. Our intention also is to share information on congregants possibly in need of prayer and outreach. All are welcome. \nZoom Link \nMeeting ID: 882 1993 5556 \nPasscode: 576111
URL:https://stmargaretsdc.org/event/prayer-circle/2022-08-10/
CATEGORIES:Other Events,Parish Events,Prayer Group,Support Groups
ATTACH;FMTTYPE=image/png:https://stmargaretsdc.org/wp-content/uploads/2021/09/Bible-Study.png
END:VEVENT
BEGIN:VEVENT
DTSTART;TZID=America/Detroit:20220727T190000
DTEND;TZID=America/Detroit:20220727T194500
DTSTAMP:20260422T060407
CREATED:20220531T142100Z
LAST-MODIFIED:20220811T191950Z
UID:10006125-1658948400-1658951100@stmargaretsdc.org
SUMMARY:Prayer Circle
DESCRIPTION:Join in a simple service of healing prayer and intercession for people on the Zoom call as well as those on our prayer list. Our intention also is to share information on congregants possibly in need of prayer and outreach. All are welcome. \nZoom Link \nMeeting ID: 882 1993 5556 \nPasscode: 576111
URL:https://stmargaretsdc.org/event/prayer-circle/2022-07-27/
CATEGORIES:Other Events,Parish Events,Prayer Group,Support Groups
ATTACH;FMTTYPE=image/png:https://stmargaretsdc.org/wp-content/uploads/2021/09/Bible-Study.png
END:VEVENT
BEGIN:VEVENT
DTSTART;TZID=America/Detroit:20220713T190000
DTEND;TZID=America/Detroit:20220713T194500
DTSTAMP:20260422T060407
CREATED:20220531T142100Z
LAST-MODIFIED:20220811T191950Z
UID:10006124-1657738800-1657741500@stmargaretsdc.org
SUMMARY:Prayer Circle
DESCRIPTION:Join in a simple service of healing prayer and intercession for people on the Zoom call as well as those on our prayer list. Our intention also is to share information on congregants possibly in need of prayer and outreach. All are welcome. \nZoom Link \nMeeting ID: 882 1993 5556 \nPasscode: 576111
URL:https://stmargaretsdc.org/event/prayer-circle/2022-07-13/
CATEGORIES:Other Events,Parish Events,Prayer Group,Support Groups
ATTACH;FMTTYPE=image/png:https://stmargaretsdc.org/wp-content/uploads/2021/09/Bible-Study.png
END:VEVENT
BEGIN:VEVENT
DTSTART;TZID=America/Detroit:20220622T190000
DTEND;TZID=America/Detroit:20220622T194500
DTSTAMP:20260422T060407
CREATED:20220531T142100Z
LAST-MODIFIED:20220811T191950Z
UID:10006123-1655924400-1655927100@stmargaretsdc.org
SUMMARY:Prayer Circle
DESCRIPTION:Join in a simple service of healing prayer and intercession for people on the Zoom call as well as those on our prayer list. Our intention also is to share information on congregants possibly in need of prayer and outreach. All are welcome. \nZoom Link \nMeeting ID: 882 1993 5556 \nPasscode: 576111
URL:https://stmargaretsdc.org/event/prayer-circle/2022-06-22/
CATEGORIES:Other Events,Parish Events,Prayer Group,Support Groups
ATTACH;FMTTYPE=image/png:https://stmargaretsdc.org/wp-content/uploads/2021/09/Bible-Study.png
END:VEVENT
BEGIN:VEVENT
DTSTART;TZID=America/Detroit:20211219T121500
DTEND;TZID=America/Detroit:20211219T133000
DTSTAMP:20260422T060407
CREATED:20211202T170559Z
LAST-MODIFIED:20211202T171109Z
UID:10005714-1639916100-1639920600@stmargaretsdc.org
SUMMARY:Lector Training
DESCRIPTION:This is a brief opportunity for new and experienced lectors to practice with the new audio system in the Nave. (This practice session is only required for new lectors.) “Seasoned” lectors interested in practicing the new intercessor reading are also welcome. If you are interested in joining the lector ministry please email Anne Hopewell regarding zoom orientation.
URL:https://stmargaretsdc.org/event/lector-training/
CATEGORIES:Other Events,Volunteer
ATTACH;FMTTYPE=image/png:https://stmargaretsdc.org/wp-content/uploads/2021/09/Bible-Study.png
END:VEVENT
END:VCALENDAR