BEGIN:VCALENDAR
VERSION:2.0
PRODID:-//St. Margaret&#039;s Episcopal Church - Washington D.C. - ECPv6.15.18//NONSGML v1.0//EN
CALSCALE:GREGORIAN
METHOD:PUBLISH
X-WR-CALNAME:St. Margaret&#039;s Episcopal Church - Washington D.C.
X-ORIGINAL-URL:https://stmargaretsdc.org
X-WR-CALDESC:Events for St. Margaret&#039;s Episcopal Church - Washington D.C.
REFRESH-INTERVAL;VALUE=DURATION:PT1H
X-Robots-Tag:noindex
X-PUBLISHED-TTL:PT1H
BEGIN:VTIMEZONE
TZID:America/Detroit
BEGIN:DAYLIGHT
TZOFFSETFROM:-0500
TZOFFSETTO:-0400
TZNAME:EDT
DTSTART:20230312T070000
END:DAYLIGHT
BEGIN:STANDARD
TZOFFSETFROM:-0400
TZOFFSETTO:-0500
TZNAME:EST
DTSTART:20231105T060000
END:STANDARD
BEGIN:DAYLIGHT
TZOFFSETFROM:-0500
TZOFFSETTO:-0400
TZNAME:EDT
DTSTART:20240310T070000
END:DAYLIGHT
BEGIN:STANDARD
TZOFFSETFROM:-0400
TZOFFSETTO:-0500
TZNAME:EST
DTSTART:20241103T060000
END:STANDARD
BEGIN:DAYLIGHT
TZOFFSETFROM:-0500
TZOFFSETTO:-0400
TZNAME:EDT
DTSTART:20250309T070000
END:DAYLIGHT
BEGIN:STANDARD
TZOFFSETFROM:-0400
TZOFFSETTO:-0500
TZNAME:EST
DTSTART:20251102T060000
END:STANDARD
END:VTIMEZONE
BEGIN:VEVENT
DTSTART;TZID=America/Detroit:20241027T084500
DTEND;TZID=America/Detroit:20241027T100000
DTSTAMP:20260423T061643
CREATED:20240905T155144Z
LAST-MODIFIED:20240905T172740Z
UID:10007335-1730018700-1730023200@stmargaretsdc.org
SUMMARY:A Faithful Life: Inquirers Class
DESCRIPTION:This six-week “Inquirers” program explores the foundational practices and beliefs of the Episcopal Church. With a conversational approach\, the class unpacks the language of worship\, theology\, church structure\, and sacraments\, providing participants with the framework to explore\, experience\, and share the meaning and practices of our faith. If you are interested in Confirmation\, Reception\, or Reaffirmation\, this class is for you. It meets the requirements to prepare participants for these sacramental rites and to register for the Confirmation Service at Washington National Cathedral Saturday\, Nov 16. Join in person in the Glass-Top Table Room or via Google Meet. Email the Rev. Diana V. Gustafson with any questions. Class text to purchase: Your Faith\, Your Life: An Invitation to the Episcopal Church\, by Jenifer Gamber. \nRegister here.
URL:https://stmargaretsdc.org/event/a-faithful-life-inquirers-class-2/2024-10-27/
CATEGORIES:Classes
ATTACH;FMTTYPE=image/jpeg:https://stmargaretsdc.org/wp-content/uploads/2024/01/Psalm-shutterstock-1.jpeg
END:VEVENT
BEGIN:VEVENT
DTSTART;TZID=America/Detroit:20241027T103000
DTEND;TZID=America/Detroit:20241027T233000
DTSTAMP:20260423T061643
CREATED:20220113T170006Z
LAST-MODIFIED:20220921T145626Z
UID:10005859-1730025000-1730071800@stmargaretsdc.org
SUMMARY:Holy Eucharist
DESCRIPTION:Worship with us during our weekly service of Holy Eucharist\, online or in person. \n  \nZoom Link \nZoom Meeting ID: 935 9524 6192 \nPasscode: 596538 \n  \n 
URL:https://stmargaretsdc.org/event/service-of-holy-eucharist/2024-10-27/
CATEGORIES:Family Friendly,Worship
ATTACH;FMTTYPE=image/jpeg:https://stmargaretsdc.org/wp-content/uploads/2021/09/Gallery_5.jpg
END:VEVENT
END:VCALENDAR