BEGIN:VCALENDAR
VERSION:2.0
PRODID:-//St. Margaret&#039;s Episcopal Church - Washington D.C. - ECPv6.15.18//NONSGML v1.0//EN
CALSCALE:GREGORIAN
METHOD:PUBLISH
X-ORIGINAL-URL:https://stmargaretsdc.org
X-WR-CALDESC:Events for St. Margaret&#039;s Episcopal Church - Washington D.C.
REFRESH-INTERVAL;VALUE=DURATION:PT1H
X-Robots-Tag:noindex
X-PUBLISHED-TTL:PT1H
BEGIN:VTIMEZONE
TZID:America/Detroit
BEGIN:DAYLIGHT
TZOFFSETFROM:-0500
TZOFFSETTO:-0400
TZNAME:EDT
DTSTART:20230312T070000
END:DAYLIGHT
BEGIN:STANDARD
TZOFFSETFROM:-0400
TZOFFSETTO:-0500
TZNAME:EST
DTSTART:20231105T060000
END:STANDARD
BEGIN:DAYLIGHT
TZOFFSETFROM:-0500
TZOFFSETTO:-0400
TZNAME:EDT
DTSTART:20240310T070000
END:DAYLIGHT
BEGIN:STANDARD
TZOFFSETFROM:-0400
TZOFFSETTO:-0500
TZNAME:EST
DTSTART:20241103T060000
END:STANDARD
BEGIN:DAYLIGHT
TZOFFSETFROM:-0500
TZOFFSETTO:-0400
TZNAME:EDT
DTSTART:20250309T070000
END:DAYLIGHT
BEGIN:STANDARD
TZOFFSETFROM:-0400
TZOFFSETTO:-0500
TZNAME:EST
DTSTART:20251102T060000
END:STANDARD
END:VTIMEZONE
BEGIN:VEVENT
DTSTART;TZID=America/Detroit:20240714T103000
DTEND;TZID=America/Detroit:20240714T233000
DTSTAMP:20260421T045420
CREATED:20220113T170006Z
LAST-MODIFIED:20220921T145626Z
UID:10005844-1720953000-1720999800@stmargaretsdc.org
SUMMARY:Holy Eucharist
DESCRIPTION:Worship with us during our weekly service of Holy Eucharist\, online or in person. \n  \nZoom Link \nZoom Meeting ID: 935 9524 6192 \nPasscode: 596538 \n  \n 
URL:https://stmargaretsdc.org/event/service-of-holy-eucharist/2024-07-14/
CATEGORIES:Family Friendly,Worship
ATTACH;FMTTYPE=image/jpeg:https://stmargaretsdc.org/wp-content/uploads/2021/09/Gallery_5.jpg
END:VEVENT
BEGIN:VEVENT
DTSTART;TZID=America/Detroit:20240714T121500
DTEND;TZID=America/Detroit:20240714T131500
DTSTAMP:20260421T045420
CREATED:20240621T155457Z
LAST-MODIFIED:20240621T155457Z
UID:10007206-1720959300-1720962900@stmargaretsdc.org
SUMMARY:Rector's Two-Part Forum
DESCRIPTION:Join us for a special two-part Rector’s Forum as we delve into the transformative world of Ignatian spirituality. Led by our Rector\, a longtime practitioner and scholar of Ignatian spirituality\, Richard will explore the profound insights and practices of St. Ignatius of Loyola\, focusing on his Rules for the Discernment of Spirits. This forum will offer valuable tools for deepening your spiritual life and enhancing your ability to discern God’s presence in everyday moments. Whether you’re new to Ignatian spirituality or looking to deepen your understanding\, this 2-week forum is an opportunity to grow in faith and spiritual discernment. In person and via Zoom at the same link as the service. \nZoom Link \nZoom Meeting ID: 935 9524 6192 \nPasscode: 596538
URL:https://stmargaretsdc.org/event/rectors-two-part-forum/2024-07-14/
CATEGORIES:Classes
ATTACH;FMTTYPE=image/jpeg:https://stmargaretsdc.org/wp-content/uploads/2024/06/ignatius.jpeg
END:VEVENT
END:VCALENDAR